BEGIN:VCALENDAR
PRODID:-//AT Content Types//AT Event//EN
VERSION:2.0
METHOD:PUBLISH
BEGIN:VEVENT
DTSTAMP:20260423T120739Z
CREATED:20120120T211253Z
UID:ATEvent-44d418b534d2ef964d36f53769d60fd1
LAST-MODIFIED:20120416T203009Z
SUMMARY:Gardening Seminar
DTSTART:20120611T140000Z
DTEND:20120611T150000Z
DESCRIPTION:Hydrangeas for Dummies with Gretchen Verbonic\, Master Gar
 dener and Certified Master Naturalist
LOCATION:Great Room\, FENCE House
CATEGORIES:Nature Program
CONTACT:Tracie Hanson\, 828-859-9021\, natureeducation@fence.org
CLASS:PUBLIC
END:VEVENT
END:VCALENDAR
