BEGIN:VCALENDAR
PRODID:-//AT Content Types//AT Event//EN
VERSION:2.0
METHOD:PUBLISH
BEGIN:VEVENT
DTSTAMP:20260423T105902Z
CREATED:20120120T210645Z
UID:ATEvent-3deb7d7ff48fb30f47e9baaef806b68a
LAST-MODIFIED:20120430T193825Z
SUMMARY:Gardening Seminar
DTSTART:20120514T140000Z
DTEND:20120514T150000Z
DESCRIPTION:Azalea & Rhododendron Care with Rhonda Anderson
LOCATION:Great Room\, FENCE House
CATEGORIES:Nature Program
CONTACT:Tracie Hanson\, 828-859-9021\, natureeducation@fence.org
CLASS:PUBLIC
END:VEVENT
END:VCALENDAR
