BEGIN:VCALENDAR
PRODID:-//AT Content Types//AT Event//EN
VERSION:2.0
METHOD:PUBLISH
BEGIN:VEVENT
DTSTAMP:20260423T120722Z
CREATED:20120119T192111Z
UID:ATEvent-bf7ea33057384e74416025324832f8a2
LAST-MODIFIED:20120119T192111Z
SUMMARY:Gardening Seminar
DTSTART:20120312T140000Z
DTEND:20120312T160000Z
DESCRIPTION:Turf building with Travis Lindsey\n\nFree
LOCATION:Great Room\, FENCE House
CATEGORIES:Nature Program
CONTACT:Tracie Hanson\, 828-859-9021\, nature@fence.org
CLASS:PUBLIC
END:VEVENT
END:VCALENDAR
