BEGIN:VCALENDAR
PRODID:-//AT Content Types//AT Event//EN
VERSION:2.0
METHOD:PUBLISH
BEGIN:VEVENT
DTSTAMP:20260423T132028Z
CREATED:20080507T213713Z
UID:ATEvent-156402790b3ea6ad031a5a692833f61a
LAST-MODIFIED:20080520T002629Z
SUMMARY:Nov. 10: Gardening Seminar
DTSTART:20081110T150000Z
DTEND:20081110T163000Z
DESCRIPTION:"Fall Pruning"\, with Brian Gosnell of Earthworks Garden C
 enter. Free program.
LOCATION:FENCE Center Great Room
CATEGORIES:Nature Program
CONTACT:Rhonda Anderson\, 864-468-4848
URL:http://www.motlowcreekgardens.com
CLASS:PUBLIC
END:VEVENT
END:VCALENDAR
