BEGIN:VCALENDAR
PRODID:-//AT Content Types//AT Event//EN
VERSION:1.0
BEGIN:VEVENT
DTSTART:20081013T140000Z
DTEND:20081013T153000Z
DCREATED:20080507T213539Z
UID:ATEvent-de553bfb788197f38b9bd236df8a4cee
SEQUENCE:0
LAST-MODIFIED:20080623T183200Z
SUMMARY:Oct. 13: Gardening Seminar
DESCRIPTION:"A Face Lift for your Landscape"\, with Rhonda Anderson of
  Motlow Creek Gardens. Free program.
LOCATION:FENCE Center Great Room
PRIORITY:3
TRANSP:0
END:VEVENT
END:VCALENDAR
