BEGIN:VCALENDAR
PRODID:-//AT Content Types//AT Event//EN
VERSION:2.0
METHOD:PUBLISH
BEGIN:VEVENT
DTSTAMP:20260423T095824Z
CREATED:20080507T213436Z
UID:ATEvent-3c8b56c577cb2482f482995c7ba5c627
LAST-MODIFIED:20080623T183117Z
SUMMARY:Sept. 8: Gardening Seminar
DTSTART:20080908T140000Z
DTEND:20080908T153000Z
DESCRIPTION:"Retaining Walls for Beginners"\, with Travis Lindsay or L
 indsay's Lawn Care. Free program.
LOCATION:FENCE Center Great Room
CATEGORIES:Nature Program
CONTACT:Rhonda Anderson\, 864-468-4848
URL:http://www.motlowcreekgardens.com
CLASS:PUBLIC
END:VEVENT
END:VCALENDAR
