BEGIN:VCALENDAR
PRODID:-//AT Content Types//AT Event//EN
VERSION:2.0
METHOD:PUBLISH
BEGIN:VEVENT
DTSTAMP:20260423T132449Z
CREATED:20080507T214155Z
UID:ATEvent-79998c10d5289db694d4c0ec7f882449
LAST-MODIFIED:20080507T214155Z
SUMMARY:Foothills Astronomy Society Meeting
DTSTART:20080516T233000Z
DTEND:20080517T013000Z
DESCRIPTION:All welcome!
LOCATION:FENCE Center Great Room
CATEGORIES:Nature Program
CONTACT:828-859-9021
CLASS:PUBLIC
END:VEVENT
END:VCALENDAR
