BEGIN:VCALENDAR
PRODID:-//AT Content Types//AT Event//EN
VERSION:1.0
BEGIN:VEVENT
DTSTART:20080728T123000Z
DTEND:20080801T163000Z
DCREATED:20080507T215557Z
UID:ATEvent-d35da99b9ffb655b7f929ed4946ea6cb
SEQUENCE:0
LAST-MODIFIED:20080528T011001Z
SUMMARY:July 28 - Aug. 1:FENCE Summer Day Camp - Sun\, Moon and Stars
DESCRIPTION:This week\, campers study the skies\, build a solar clock 
 and join the Foothills Astronomical Society for night-time star gazing
 .
LOCATION:FENCE Grounds
PRIORITY:3
TRANSP:0
END:VEVENT
END:VCALENDAR
