BEGIN:VCALENDAR
PRODID:-//AT Content Types//AT Event//EN
VERSION:1.0
BEGIN:VEVENT
DTSTART:20080616T123000Z
DTEND:20080620T163000Z
DCREATED:20080507T214442Z
UID:ATEvent-c40287a1bf6a7f31099670e321e79dda
SEQUENCE:0
LAST-MODIFIED:20080520T002302Z
SUMMARY:June 16 - 20: FENCE Summer Day Camp - Beginner Horse Camp
DESCRIPTION:The first of our summer series of week-long camps. This we
 ek\, we study introductory horsemanship skills.
LOCATION:FENCE Grounds
PRIORITY:3
TRANSP:0
END:VEVENT
END:VCALENDAR
