BEGIN:VCALENDAR
PRODID:-//AT Content Types//AT Event//EN
VERSION:2.0
METHOD:PUBLISH
BEGIN:VEVENT
DTSTAMP:20260423T095829Z
CREATED:20080507T214624Z
UID:ATEvent-07001a4db8573be9c14203eec4f93fa1
LAST-MODIFIED:20080528T011029Z
SUMMARY:June 23 - 27: FENCE Summer Day Camp: Intermediate Horse Camp
DTSTART:20080623T123000Z
DTEND:20080627T163000Z
DESCRIPTION:This week\, we further our horsemanship skills.
LOCATION:FENCE Grounds
CATEGORIES:Nature Program
CONTACT:Tracie Hanson\, 828-859-9021\, natureeducation@fence.org
CLASS:PUBLIC
END:VEVENT
END:VCALENDAR
