BEGIN:VCALENDAR
PRODID:-//AT Content Types//AT Event//EN
VERSION:1.0
BEGIN:VEVENT
DTSTART:20080714T123000Z
DTEND:20080718T210000Z
DCREATED:20080507T215320Z
UID:ATEvent-12e0a1edf29e699f64e50161fe412b2c
SEQUENCE:0
LAST-MODIFIED:20080528T010843Z
SUMMARY:July 14 - 18: FENCE Summer Day Camp - All Day Camp
DESCRIPTION:This week\, camps run all day and incorporate elements fro
 m all our other camps\, from astronomy to art!
LOCATION:FENCE Grounds
PRIORITY:3
TRANSP:0
END:VEVENT
END:VCALENDAR
