BEGIN:VCALENDAR
PRODID:-//AT Content Types//AT Event//EN
VERSION:2.0
METHOD:PUBLISH
BEGIN:VEVENT
DTSTAMP:20260423T072835Z
CREATED:20080507T215947Z
UID:ATEvent-e718e306f340f6b4d40ae9c397fcdf4e
LAST-MODIFIED:20080528T010917Z
SUMMARY:Aug. 11 - 15: FENCE Summer Day Camp - All Day Camp
DTSTART:20080811T123000Z
DTEND:20080815T163000Z
DESCRIPTION:Our second all-day week for campers\, with activities from
  astronomy to art.
LOCATION:FENCE Grounds
CATEGORIES:Nature Program
CONTACT:Tracie Hanson\, 828-859-9021\, natureeducation@fence.org
CLASS:PUBLIC
END:VEVENT
END:VCALENDAR
