BEGIN:VCALENDAR
PRODID:-//AT Content Types//AT Event//EN
VERSION:2.0
METHOD:PUBLISH
BEGIN:VEVENT
DTSTAMP:20260423T105718Z
CREATED:20081114T193709Z
UID:ATEvent-18c79d69bf4882639afb0e52f4f09bac
LAST-MODIFIED:20081114T193709Z
SUMMARY:Feb. 21: Astronomy Program at Sunset
DTSTART:20090221T233000Z
DTEND:20090222T040000Z
DESCRIPTION:Venus At Its Brightest. Rain date\, Feb. 28
CATEGORIES:Nature Program
CLASS:PUBLIC
END:VEVENT
END:VCALENDAR
