BEGIN:VCALENDAR
PRODID:-//AT Content Types//AT Event//EN
VERSION:2.0
METHOD:PUBLISH
BEGIN:VEVENT
DTSTAMP:20260423T142744Z
CREATED:20081114T193549Z
UID:ATEvent-7a27cb21b394e16cb84d9f850b1ece73
LAST-MODIFIED:20081114T193549Z
SUMMARY:Feb. 20: Foothills Astronomical Society Meeting
DTSTART:20090221T003000Z
DTEND:20090221T030000Z
LOCATION:FENCE Center\, Great Room
CATEGORIES:Nature Program
CLASS:PUBLIC
END:VEVENT
END:VCALENDAR
