BEGIN:VCALENDAR
PRODID:-//AT Content Types//AT Event//EN
VERSION:1.0
BEGIN:VEVENT
DTSTART:20100220T003000Z
DTEND:20100220T020000Z
DCREATED:20091219T171726Z
UID:ATEvent-0f1ba0d4decf1be5ea6041893623d990
SEQUENCE:0
LAST-MODIFIED:20091219T171846Z
SUMMARY:Feb. 19: Foothills Astronomical Society meeting
DESCRIPTION:Meets at 7:30pm in the FENCE Center. Enter through rear of
  building. Public welcome.
LOCATION:Great Room
PRIORITY:3
TRANSP:0
END:VEVENT
END:VCALENDAR
