BEGIN:VCALENDAR
PRODID:-//AT Content Types//AT Event//EN
VERSION:1.0
BEGIN:VEVENT
DTSTART:20100213T230000Z
DTEND:20100214T040000Z
DCREATED:20091219T171222Z
UID:ATEvent-842e0686d8880ee56c6e8978f70bbfb8
SEQUENCE:0
LAST-MODIFIED:20091219T171222Z
SUMMARY:Feb. 13: Astronomy Program at sunset
DESCRIPTION:Orion and the Pleiades star cluster. Meets at sunset on Ha
 wk Ridge\, behind the FENCE Center. No program if rain or heavy cloud 
 cover. Telescopes provided. Offered in association with the Foothills 
 Astronomical Society.
PRIORITY:3
TRANSP:0
END:VEVENT
END:VCALENDAR
