BEGIN:VCALENDAR
PRODID:-//AT Content Types//AT Event//EN
VERSION:2.0
METHOD:PUBLISH
BEGIN:VEVENT
DTSTAMP:20260423T120220Z
CREATED:20120124T144112Z
UID:ATEvent-d0fa0c536340e07d419e2b6617dd7c9f
LAST-MODIFIED:20120913T140646Z
SUMMARY:Family Concert
DTSTART:20120916T200000Z
DTEND:20120916T220000Z
DESCRIPTION:Free Admittance
LOCATION:Great Room\, FENCE House
CATEGORIES:Nature Program
CONTACT:Tracie Hanson\, 828-859-9021\, nature@fence.org
CLASS:PUBLIC
END:VEVENT
END:VCALENDAR
