BEGIN:VCALENDAR
PRODID:-//AT Content Types//AT Event//EN
VERSION:2.0
METHOD:PUBLISH
BEGIN:VEVENT
DTSTAMP:20260423T105959Z
CREATED:20120119T192342Z
UID:ATEvent-a728e4fc45d2ece20847eb8c0f8af577
LAST-MODIFIED:20120119T192342Z
SUMMARY:Family Concert
DTSTART:20120318T200000Z
DTEND:20120318T220000Z
DESCRIPTION:free
LOCATION:Great Room\, FENCE House
CATEGORIES:Family
CLASS:PUBLIC
END:VEVENT
END:VCALENDAR
