BEGIN:VCALENDAR
PRODID:-//AT Content Types//AT Event//EN
VERSION:2.0
METHOD:PUBLISH
BEGIN:VEVENT
DTSTAMP:20260423T171301Z
CREATED:20110427T184203Z
UID:ATEvent-affc7cb0beb1db5b4d9871a87dae13bd
LAST-MODIFIED:20120417T023820Z
SUMMARY:Eniviromental Science
DTSTART:20110725T120000Z
DTEND:20110729T210000Z
DESCRIPTION:AGES (5-12) $150.00 SESSION\n8A.M. – 5P.M.\nTHIS CAMP WI
 LL BE AN ALL DAY CAMP WITH A MIXTURE OF ALL THE\nOTHER CAMPS INCLUDING
 \, EXPLORING NATURE\, LEARNING ABOUT\nTHE EARTH & ASTRONOMY\, PHOTOGRA
 PHY\, AND SURVIVAL SKILLS.\nTHIS WEEK WILL BE A VERY EXCITING WEEK FUL
 L OF LOTS OF GREAT THINGS TO LEARN INCLUDES MORNING & AFTERNOON SNACK 
 \, BRING BAG LUNCH\nLimited to 50 Campers
LOCATION:FENCE House
CATEGORIES:Nature Program
CONTACT:Tracie Hanson\, 828-859-9021\, nature@fence.org
CLASS:PUBLIC
END:VEVENT
END:VCALENDAR
