BEGIN:VCALENDAR
PRODID:-//AT Content Types//AT Event//EN
VERSION:1.0
BEGIN:VEVENT
DTSTART:20081208T150000Z
DTEND:20081208T163000Z
DCREATED:20080623T183600Z
UID:ATEvent-ba89247d53f29fdf426e624649295a48
SEQUENCE:0
LAST-MODIFIED:20080623T183600Z
SUMMARY:Dec. 8 - Gardening Seminar
DESCRIPTION:"Putting Your Water Garden To Bed For The Winter"
LOCATION:FENCE Center Great Room
PRIORITY:3
TRANSP:0
END:VEVENT
END:VCALENDAR
