BEGIN:VCALENDAR
PRODID:-//AT Content Types//AT Event//EN
VERSION:1.0
BEGIN:VEVENT
DTSTART:20111217T230000Z
DTEND:20111218T040000Z
DCREATED:20110526T182943Z
UID:ATEvent-a3e1dda3324cd6b7623c821adc95695d
SEQUENCE:0
LAST-MODIFIED:20110526T182943Z
SUMMARY:Dec. 17: Astronomy program at sunset
DESCRIPTION:Join the Foothills Astronomy Club for an outdoor program (
 weather permitting) viewing the Andromeda Galaxy. Telescopes provided 
 for those without. Program moves indoors in inclement weather.
LOCATION:Hawk Ridge
PRIORITY:3
TRANSP:0
END:VEVENT
END:VCALENDAR
