BEGIN:VCALENDAR
PRODID:-//AT Content Types//AT Event//EN
VERSION:2.0
METHOD:PUBLISH
BEGIN:VEVENT
DTSTAMP:20260423T100250Z
CREATED:20110526T183057Z
UID:ATEvent-ddf469442220426b6e7f21a6fef6c36d
LAST-MODIFIED:20110526T183057Z
SUMMARY:Dec. 16: Foothills Astronomy Club monthly meeting
DTSTART:20111217T003000Z
DTEND:20111217T020000Z
DESCRIPTION:All welcome. Enter the FENCE Center at the back of the bui
 lding.
LOCATION:Great Room
CATEGORIES:Nature Program
CONTACT:Jim Cooper\, 828-859-8342
CLASS:PUBLIC
END:VEVENT
END:VCALENDAR
