BEGIN:VCALENDAR
PRODID:-//AT Content Types//AT Event//EN
VERSION:2.0
METHOD:PUBLISH
BEGIN:VEVENT
DTSTAMP:20260423T080301Z
CREATED:20081115T182521Z
UID:ATEvent-93d7fc9902943d2e31a89c75fc24a5a4
LAST-MODIFIED:20081115T182521Z
SUMMARY:Dec. 14: Gardening Seminar\, 10am
DTSTART:20091214T150000Z
DTEND:20091214T160000Z
DESCRIPTION:"Holiday Safari"\, with representatives of Hollywild Anima
 l Park in Inman\, SC. Free program.
LOCATION:FENCE Center\, Great Room
CATEGORIES:Nature Program
CONTACT:828-859-9021\, info@fence.org
CLASS:PUBLIC
END:VEVENT
END:VCALENDAR
