BEGIN:VCALENDAR
PRODID:-//AT Content Types//AT Event//EN
VERSION:2.0
METHOD:PUBLISH
BEGIN:VEVENT
DTSTAMP:20260423T063257Z
CREATED:20110427T182807Z
UID:ATEvent-398a5c8c4f65a997e42ba49c22e32084
LAST-MODIFIED:20110427T183022Z
SUMMARY:Day Camp
DTSTART:20110711T120000Z
DTEND:20110715T210000Z
DESCRIPTION:This is an all day camp for ages 5-12 where we will enjoy 
 a friendly introduction with nature\, crafts\, and friendships with th
 e other campers.  \n\n All Day Camp runs from 8 AM to 5 PM July 11-15 
 daily
CATEGORIES:Nature Program
CONTACT:Tracie Hanson\, 828-859-9021\, nature@fence.org
CLASS:PUBLIC
END:VEVENT
END:VCALENDAR
