BEGIN:VCALENDAR
PRODID:-//AT Content Types//AT Event//EN
VERSION:2.0
METHOD:PUBLISH
BEGIN:VEVENT
DTSTAMP:20260420T193031Z
CREATED:20120120T211601Z
UID:ATEvent-d2475a5f79ffcf3f7b83bcfa0c203535
LAST-MODIFIED:20120417T135150Z
SUMMARY:Beginner Horse Riding Camp for Kids
DTSTART:20120611T123000Z
DTEND:20120615T163000Z
DESCRIPTION:Campers ages 8-12\nFee $150\nBeginners Horse Camp\nHalf Da
 y 8:30am to 12:30pm
LOCATION:EQ Side FENCE
CATEGORIES:Childrens Day Camp
CONTACT:Tracie Hanson\, 828-859-9021\, natureeducation@fence.org
CLASS:PUBLIC
END:VEVENT
END:VCALENDAR
