BEGIN:VCALENDAR
PRODID:-//AT Content Types//AT Event//EN
VERSION:2.0
METHOD:PUBLISH
BEGIN:VEVENT
DTSTAMP:20260420T193149Z
CREATED:20120120T212618Z
UID:ATEvent-6c7f4d93af8e28d86ef98a5eb64c26af
LAST-MODIFIED:20120417T135241Z
SUMMARY:Nature and Astronomy Camp for Kids
DTSTART:20120716T123000Z
DTEND:20120720T163000Z
DESCRIPTION:Nature and Astonomy Day Camp\nAges 5-12\nFee $100\nHalf Da
 y  8:30am-12:30pm
LOCATION:FENCE Center
CATEGORIES:Childrens Day Camp
CONTACT:Tracie Hanson\, 828-859-9021\, natureeducation@fence.org
CLASS:PUBLIC
END:VEVENT
END:VCALENDAR
