BEGIN:VCALENDAR
PRODID:-//AT Content Types//AT Event//EN
VERSION:2.0
METHOD:PUBLISH
BEGIN:VEVENT
DTSTAMP:20260423T191658Z
CREATED:20120120T212152Z
UID:ATEvent-26fa4677fa4979e2d48893a958493b1a
LAST-MODIFIED:20120417T135226Z
SUMMARY:All Day Camp for Kids
DTSTART:20120709T120000Z
DTEND:20120713T210000Z
DESCRIPTION:All Day Camp\nAges 5-12\nFees $150
LOCATION:FEMCE Center
CATEGORIES:Childrens Day Camp
CONTACT:Tracie Hanson\, 828-859-9021\, natureeducation@fence.org
CLASS:PUBLIC
END:VEVENT
END:VCALENDAR
