BEGIN:VCALENDAR
PRODID:-//AT Content Types//AT Event//EN
VERSION:1.0
BEGIN:VEVENT
DTSTART:20120618T123000Z
DTEND:20120622T163000Z
DCREATED:20120120T211926Z
UID:ATEvent-107b2520f6f5fb417bf252b46a9caa91
SEQUENCE:0
LAST-MODIFIED:20120417T135209Z
SUMMARY:Intermediate Horse Camp for Kids
DESCRIPTION:Intermediate Horse Camp \nCampers: Ages 8-12\nFee $150\nHa
 lf day from 8:30am to 12:30 pm
LOCATION:EQ Side FENCE
PRIORITY:3
TRANSP:0
END:VEVENT
END:VCALENDAR
