BEGIN:VCALENDAR
PRODID:-//AT Content Types//AT Event//EN
VERSION:1.0
BEGIN:VEVENT
DTSTART:20110807T003000Z
DTEND:20110807T030000Z
DCREATED:20110526T181719Z
UID:ATEvent-b801f773dcab28df398052b31e6e3e5d
SEQUENCE:0
LAST-MODIFIED:20110526T181720Z
SUMMARY:Aug. 6: Astronomy program at sunset
DESCRIPTION:Join the Foothills Astronomy Club for an outdoor program (
 weather permitting) viewing the 1st quarter moon. Telescopes provided 
 for those without. Program moves indoors in inclement weather.
LOCATION:Hawk Ridge
PRIORITY:3
TRANSP:0
END:VEVENT
END:VCALENDAR
