BEGIN:VCALENDAR
PRODID:-//AT Content Types//AT Event//EN
VERSION:2.0
METHOD:PUBLISH
BEGIN:VEVENT
DTSTAMP:20260420T193219Z
CREATED:20091219T194144Z
UID:ATEvent-0df518fb64700cc6aff9b6538aee0b58
LAST-MODIFIED:20100607T154053Z
SUMMARY:Aug. 9 - 13: FENCE In Service Teacher Training
DTSTART:20100806T120000Z
DTEND:20100812T210000Z
DESCRIPTION:Teachers come joint the fun and earn CEU credits at the sa
 me time.  Learn all about the natural world around you explore plants\
 , trees\, wildflowers\, animals\, geology and much more.
LOCATION:FENCE Grounds
CATEGORIES:Childrens Day Camp
CONTACT:Tracie Hanson\, 828-859-9021\, natureeducation@fence.org
URL:http://www.fence.org/Camps
CLASS:PUBLIC
END:VEVENT
END:VCALENDAR
