BEGIN:VCALENDAR
PRODID:-//AT Content Types//AT Event//EN
VERSION:2.0
METHOD:PUBLISH
BEGIN:VEVENT
DTSTAMP:20260423T191417Z
CREATED:20080623T184223Z
UID:ATEvent-e432e1d1c7f36026b62540c303349670
LAST-MODIFIED:20080623T184223Z
SUMMARY:Aug. 2 - Astronomy Program at sunset
DTSTART:20080803T003000Z
DTEND:20080803T023000Z
DESCRIPTION:"Jupiter And Its Moons"
LOCATION:FENCE Grounds
CATEGORIES:Nature Program
CONTACT:Jim Cooper\, 828-859-8342
CLASS:PUBLIC
END:VEVENT
END:VCALENDAR
