BEGIN:VCALENDAR
PRODID:-//AT Content Types//AT Event//EN
VERSION:2.0
METHOD:PUBLISH
BEGIN:VEVENT
DTSTAMP:20260423T132237Z
CREATED:20091219T193945Z
UID:ATEvent-93d8c154681c4d3189a24db3c877cabe
LAST-MODIFIED:20100607T154121Z
SUMMARY:Aug. 2 - 6: FENCE Day Camp
DTSTART:20100802T123000Z
DTEND:20100808T163000Z
DESCRIPTION:ALL DAY CAMP\, 8am to 5pm. Natural history activities\, ph
 otography and survival skills. For ages 6-12.
LOCATION:FENCE Grounds
CATEGORIES:Childrens Day Camp
CONTACT:Tracie Hanson\, 828-859-9021\, natureeducation@fence.org
URL:http://www.fence.org/Camps
CLASS:PUBLIC
END:VEVENT
END:VCALENDAR
