BEGIN:VCALENDAR
PRODID:-//AT Content Types//AT Event//EN
VERSION:2.0
METHOD:PUBLISH
BEGIN:VEVENT
DTSTAMP:20260423T063747Z
CREATED:20110526T181930Z
UID:ATEvent-073eeaf41f3dba3dff6ae981bd5090ae
LAST-MODIFIED:20110526T181930Z
SUMMARY:Aug. 19: Foothills Astronomy Club monthly meeting
DTSTART:20110819T233000Z
DTEND:20110820T010000Z
DESCRIPTION:All welcome. Enter the FENCE Center at the back of the bui
 lding.
LOCATION:Great Room
CATEGORIES:Nature Program
CONTACT:Jim Cooper\, 828-859-8342
CLASS:PUBLIC
END:VEVENT
END:VCALENDAR
