BEGIN:VCALENDAR
PRODID:-//AT Content Types//AT Event//EN
VERSION:2.0
METHOD:PUBLISH
BEGIN:VEVENT
DTSTAMP:20260423T120300Z
CREATED:20120124T143959Z
UID:ATEvent-726677ff56385f78219ead1182d4a830
LAST-MODIFIED:20120417T141135Z
SUMMARY:Astronomy "Sky Surfing"
DTSTART:20120916T000000Z
DTEND:20120916T020000Z
DESCRIPTION:FREE at Sunset\nThis event will be held on Hawk's Ridge wh
 ich is located behind the FENCE Center at the top of the hill
LOCATION:Hawk's Ridge *FENCE
CATEGORIES:Nature/Astronomy
CONTACT:Jim Cooper/Jessie Williard
CLASS:PUBLIC
END:VEVENT
END:VCALENDAR
