BEGIN:VCALENDAR
PRODID:-//AT Content Types//AT Event//EN
VERSION:2.0
METHOD:PUBLISH
BEGIN:VEVENT
DTSTAMP:20260423T120723Z
CREATED:20120120T210454Z
UID:ATEvent-9282dadb380374322365e9743ad9cd98
LAST-MODIFIED:20120417T141012Z
SUMMARY:Astronomy "Sky Surfing"
DTSTART:20120422T000000Z
DTEND:20120422T020000Z
DESCRIPTION:FREE at Sunset\nThis event will be held on Hawk's Ridge wh
 ich is located behind the FENCE Center at the top of the hill
LOCATION:Hawk's Ridge behind FENCE Center
CATEGORIES:Nature/Astronomy
CONTACT:Jim Cooper/Jessie Williard
CLASS:PUBLIC
END:VEVENT
END:VCALENDAR
