BEGIN:VCALENDAR
PRODID:-//AT Content Types//AT Event//EN
VERSION:1.0
BEGIN:VEVENT
DTSTART:20120323T220000Z
DTEND:20120324T000000Z
DCREATED:20120120T205250Z
UID:ATEvent-00a0296689bb1f310d8d74f1d46922b1
SEQUENCE:0
LAST-MODIFIED:20120417T022953Z
SUMMARY:Astronomy "Sky Surfing"
DESCRIPTION:Free\nAt Sunrise
LOCATION:Hawk's Ridge *FENCE
PRIORITY:3
TRANSP:0
END:VEVENT
END:VCALENDAR
