BEGIN:VCALENDAR
PRODID:-//AT Content Types//AT Event//EN
VERSION:1.0
BEGIN:VEVENT
DTSTART:20120218T230000Z
DTEND:20120219T010000Z
DCREATED:20120119T171216Z
UID:ATEvent-b5648d1665b8e53b3233dcc5d31de9f5
SEQUENCE:0
LAST-MODIFIED:20120119T171216Z
SUMMARY:Astronomy "Sky Surfing"
DESCRIPTION:Free  \nMeet @ sunset
LOCATION:Hawk's Ridge *FENCE
PRIORITY:3
TRANSP:0
END:VEVENT
END:VCALENDAR
