BEGIN:VCALENDAR
PRODID:-//AT Content Types//AT Event//EN
VERSION:2.0
METHOD:PUBLISH
BEGIN:VEVENT
DTSTAMP:20260423T063436Z
CREATED:20120119T170516Z
UID:ATEvent-187b930453cd7e427044c5f1c032a02c
LAST-MODIFIED:20120119T170516Z
SUMMARY:Astronomy Meeting
DTSTART:20120121T000000Z
DTEND:20120121T020000Z
DESCRIPTION:Come its "Free"
LOCATION:Conference Room\,  FENCE House
CATEGORIES:Nature/Astronomy
CONTACT:Jim Cooper/Jessie Williard
CLASS:PUBLIC
END:VEVENT
END:VCALENDAR
