BEGIN:VCALENDAR
PRODID:-//AT Content Types//AT Event//EN
VERSION:1.0
BEGIN:VEVENT
DTSTART:20120518T230000Z
DTEND:20120519T010000Z
DCREATED:20120120T210801Z
UID:ATEvent-a7b0abf0fc7a0da06c629c18829bc1de
SEQUENCE:0
LAST-MODIFIED:20120417T140757Z
SUMMARY:Astronomy Meeting
DESCRIPTION:Free\nConference Room in FENCE Center
LOCATION:Conference Room\,  FENCE House
PRIORITY:3
TRANSP:0
END:VEVENT
END:VCALENDAR
