BEGIN:VCALENDAR
PRODID:-//AT Content Types//AT Event//EN
VERSION:1.0
BEGIN:VEVENT
DTSTART:20110718T123000Z
DTEND:20110722T163000Z
DCREATED:20110427T183810Z
UID:ATEvent-37a2b369aa7d8add9c7af6bc6cdf59fb
SEQUENCE:0
LAST-MODIFIED:20110427T183810Z
SUMMARY:Art Camp
DESCRIPTION:For ages 5-12.  The camper will enjoy art from different c
 ultures\, types and appreciation of colors\, and textures.\n\nClasses 
 run from 8:30 AM to 12:30 PM July 18-22
LOCATION:FENCE House
PRIORITY:3
TRANSP:0
END:VEVENT
END:VCALENDAR
