BEGIN:VCALENDAR
PRODID:-//AT Content Types//AT Event//EN
VERSION:1.0
BEGIN:VEVENT
DTSTART:20090417T233000Z
DTEND:20090418T020000Z
DCREATED:20081114T194047Z
UID:ATEvent-988d25b0355a83a173e4e947e2a60379
SEQUENCE:0
LAST-MODIFIED:20081114T194047Z
SUMMARY:April 17: Foothills Astronomical Society Meeting
LOCATION:FENCE Center Great Room
PRIORITY:3
TRANSP:0
END:VEVENT
END:VCALENDAR
