BEGIN:VCALENDAR
PRODID:-//AT Content Types//AT Event//EN
VERSION:1.0
BEGIN:VEVENT
DTSTART:20100417T223000Z
DTEND:20100418T030000Z
DCREATED:20091219T172630Z
UID:ATEvent-3e19e7d89d3ee57a4d2123131b76a28f
SEQUENCE:0
LAST-MODIFIED:20091219T172630Z
SUMMARY:April 17: Astronomy program at sunset
DESCRIPTION:Mercury joins Venus and the crescent moon at sunset. Meet 
 on Hawk Ridge\, behind the FENCE Center. No program if rain or heavy c
 loud cover. Telescopes provided.
LOCATION:Hawk Ridge
PRIORITY:3
TRANSP:0
END:VEVENT
END:VCALENDAR
