BEGIN:VCALENDAR
PRODID:-//AT Content Types//AT Event//EN
VERSION:1.0
BEGIN:VEVENT
DTSTART:20110416T140000Z
DTEND:20110416T160000Z
DCREATED:20110412T161503Z
UID:ATEvent-a64a684d76b9ee05092d26e6ec1a2687
SEQUENCE:0
LAST-MODIFIED:20110412T161503Z
SUMMARY:April 16: Wildflower Hike at Pearson's Falls
DESCRIPTION:With naturalist Fred Roan. Meet at Pearson's Falls at 10am
 . Each hiker must pay Pearson's Fall's $5 entry fee.
LOCATION:Pearson's Falls\, Tryon
PRIORITY:3
TRANSP:0
END:VEVENT
END:VCALENDAR
