BEGIN:VCALENDAR
PRODID:-//AT Content Types//AT Event//EN
VERSION:2.0
METHOD:PUBLISH
BEGIN:VEVENT
DTSTAMP:20260423T063742Z
CREATED:20091219T172807Z
UID:ATEvent-162b9f39493387f37ae01c0311a4dda8
LAST-MODIFIED:20091219T172807Z
SUMMARY:April 16: Foothills Astronomical Society meeting
DTSTART:20100416T233000Z
DTEND:20100417T010000Z
DESCRIPTION:Meets at 7:30 in the FENCE Center. Enter through rear of b
 uilding. Public welcome.
LOCATION:Great Room
CATEGORIES:Nature/Astronomy
CONTACT:jim Cooper\, 828-859-8342
CLASS:PUBLIC
END:VEVENT
END:VCALENDAR
