BEGIN:VCALENDAR
PRODID:-//AT Content Types//AT Event//EN
VERSION:2.0
METHOD:PUBLISH
BEGIN:VEVENT
DTSTAMP:20260423T110015Z
CREATED:20081115T181709Z
UID:ATEvent-09c9de4c2ceb727c7a341a2c830817f4
LAST-MODIFIED:20081115T181709Z
SUMMARY:April 13: Gardening Seminar\, 10am
DTSTART:20090413T140000Z
DTEND:20090413T150000Z
DESCRIPTION:"Irises For Beginners"\, with Everette Lineberger of Quail
  Hill Gardens. Free program.
LOCATION:FENCE Center\, Great Room
CATEGORIES:Nature Program
CONTACT:828-859-9021\, info@fence.org
CLASS:PUBLIC
END:VEVENT
END:VCALENDAR
