BEGIN:VCALENDAR
PRODID:-//AT Content Types//AT Event//EN
VERSION:2.0
METHOD:PUBLISH
BEGIN:VEVENT
DTSTAMP:20260423T132433Z
CREATED:20091219T174211Z
UID:ATEvent-7f75b1fed971cb581dfefae4359ff068
LAST-MODIFIED:20091219T174211Z
SUMMARY:April 12: Gardening Seminar\, 10am
DTSTART:20100412T140000Z
DTEND:20100412T160000Z
DESCRIPTION:"A History of Herbs"\, with Rema Keen of Crescent Growers.
  Includes medicinal and culinary use of herbs.
LOCATION:Great Room
CATEGORIES:Nature Program
CONTACT:828-859-9021\, info@fence.org
CLASS:PUBLIC
END:VEVENT
END:VCALENDAR
