BEGIN:VCALENDAR
PRODID:-//AT Content Types//AT Event//EN
VERSION:2.0
METHOD:PUBLISH
BEGIN:VEVENT
DTSTAMP:20260423T190803Z
CREATED:20161206T174123Z
UID:ATEvent-85ec72691bf24bbc9a432069dbcbf291
LAST-MODIFIED:20161206T174126Z
SUMMARY:FENCE Trails Workday
DTSTART:20161214T150000Z
DTEND:20161214T170000Z
DESCRIPTION:Come join the FENCE Trail Crew for a trails cleanup sessio
 n. We will be working beside the Garden at the Center in the paved Wil
 dwoods Trail area. The work will include invasive plant removal as wel
 l as the removal of some of the accumulated deadfall and debris. The f
 all and winter seasons allow greater visibility and access for doing t
 his type of work. Participants may pick up some ideas as to how to mai
 ntain trails on their own properties. Sturdy shoes\, gloves\, and your
  favorite hand tool.
LOCATION:FENCE Center
CONTACT:Amy\, 8288599021\, info@fence.org
CLASS:PUBLIC
END:VEVENT
END:VCALENDAR
