BEGIN:VCALENDAR
PRODID:-//AT Content Types//AT Event//EN
VERSION:2.0
METHOD:PUBLISH
BEGIN:VEVENT
DTSTAMP:20260421T095631Z
CREATED:20120508T144854Z
UID:ATEvent-8d1577e4-47de-426d-8e02-d43f671ef26c
LAST-MODIFIED:20120522T165652Z
SUMMARY:Tryon Summer Classic
DTSTART:20120531T110000Z
DTEND:20120603T213000Z
DESCRIPTION:Equus Events Managed\n"A" Rated \nBenefits the Tryon Hound
 s\n$10,000 Open Jumper Classic\n$2,500 USHJA National Hunter Derby
LOCATION:EQ Side FENCE
CATEGORIES:Horse Show
CONTACT:Megan\, 803-643-5698\, megan@equusevents.com
URL:http://www.equusevents.com/shows.html
CLASS:PUBLIC
END:VEVENT
END:VCALENDAR
