BEGIN:VCALENDAR
PRODID:-//AT Content Types//AT Event//EN
VERSION:2.0
METHOD:PUBLISH
BEGIN:VEVENT
DTSTAMP:20260423T143645Z
CREATED:20120104T193925Z
UID:ATEvent-f5d5f1527ba660e33ae0e91b4a5651e3
LAST-MODIFIED:20120417T023211Z
SUMMARY:TR&HC Pony Race Training
DTSTART:20120219T130000Z
DTEND:20120219T193500Z
CATEGORIES:Training
CONTACT:Tryon Riding & Hunt Club\, 828-859-6109
URL:http://www.blockhouseraces.com
CLASS:PUBLIC
END:VEVENT
END:VCALENDAR
