BEGIN:VCALENDAR
PRODID:-//AT Content Types//AT Event//EN
VERSION:1.0
BEGIN:VEVENT
DTSTART:20121001T145500Z
DTEND:20121001T145500Z
DCREATED:20121001T145821Z
UID:ATEvent-bdcdd99f-5d9c-48b2-a3d5-ecf4fe37403c
SEQUENCE:0
LAST-MODIFIED:20121001T145821Z
SUMMARY:PSJ Oktoberfest at FENCE
DESCRIPTION:Oktoberfest\nOctober 13-14\, 2012\nClosing Date: October 1
 \nSanctioned by: PSJ\, SC\, NC\, BR
PRIORITY:3
TRANSP:0
END:VEVENT
END:VCALENDAR
